BEGIN:VCALENDAR
VERSION:2.0
PRODID:-//Heimatverein Aichach e.V. - ECPv6.15.20//NONSGML v1.0//EN
CALSCALE:GREGORIAN
METHOD:PUBLISH
X-WR-CALNAME:Heimatverein Aichach e.V.
X-ORIGINAL-URL:https://www.heimatverein-aichach.de
X-WR-CALDESC:Veranstaltungen für Heimatverein Aichach e.V.
REFRESH-INTERVAL;VALUE=DURATION:PT1H
X-Robots-Tag:noindex
X-PUBLISHED-TTL:PT1H
BEGIN:VTIMEZONE
TZID:Europe/Berlin
BEGIN:DAYLIGHT
TZOFFSETFROM:+0100
TZOFFSETTO:+0200
TZNAME:CEST
DTSTART:20250330T010000
END:DAYLIGHT
BEGIN:STANDARD
TZOFFSETFROM:+0200
TZOFFSETTO:+0100
TZNAME:CET
DTSTART:20251026T010000
END:STANDARD
BEGIN:DAYLIGHT
TZOFFSETFROM:+0100
TZOFFSETTO:+0200
TZNAME:CEST
DTSTART:20260329T010000
END:DAYLIGHT
BEGIN:STANDARD
TZOFFSETFROM:+0200
TZOFFSETTO:+0100
TZNAME:CET
DTSTART:20261025T010000
END:STANDARD
BEGIN:DAYLIGHT
TZOFFSETFROM:+0100
TZOFFSETTO:+0200
TZNAME:CEST
DTSTART:20270328T010000
END:DAYLIGHT
BEGIN:STANDARD
TZOFFSETFROM:+0200
TZOFFSETTO:+0100
TZNAME:CET
DTSTART:20271031T010000
END:STANDARD
END:VTIMEZONE
BEGIN:VEVENT
DTSTART;TZID=Europe/Berlin:20260120T123000
DTEND;TZID=Europe/Berlin:20260120T150000
DTSTAMP:20260422T200114
CREATED:20260109T125452Z
LAST-MODIFIED:20260118T080358Z
UID:2109-1768912200-1768921200@www.heimatverein-aichach.de
SUMMARY:Einladung zur Buchvorstellung
DESCRIPTION:In Zusammenarbeit mit der „Kommission für Bayerische Landesgeschichte München“ lädt der Landkreis Aichach/Friedberg zu einem besonderen Ereignis ein: \nAm Dienstag\, 20. Januar 2026\, findet ab 12:30 Uhr im Kreuzgratgewölbe des Kreisguts Aichach eine Buchvorstellung statt. Dabei wird das Werk „Aichach. Der ehemalige Landkreis“ aus der Reihe der „Historischen Ortsnamensbücher von Bayern“\, welches von Frau Dr. Sarah Rathgeb\, einer Germanistin mit Schwerpunkt historischer Linguistik und Namenkunde\, erarbeitet wurde\, der Öffentlichkeit präsentiert.\nFrau Dr. Rathgeb erhielt für diese Arbeit 2021 den Förderpreis für eine hervorragende Dissertation. \nWeitere Information dazu finden Sie im nachstehenden Flyer: \nEinladung Ortsnamenbuch Aichach
URL:https://www.heimatverein-aichach.de/termin/einladung-zur-buchvorstellung/
END:VEVENT
END:VCALENDAR