BEGIN:VCALENDAR
VERSION:2.0
PRODID:-//Heimatverein Aichach e.V. - ECPv6.15.20//NONSGML v1.0//EN
CALSCALE:GREGORIAN
METHOD:PUBLISH
X-WR-CALNAME:Heimatverein Aichach e.V.
X-ORIGINAL-URL:https://www.heimatverein-aichach.de
X-WR-CALDESC:Veranstaltungen für Heimatverein Aichach e.V.
REFRESH-INTERVAL;VALUE=DURATION:PT1H
X-Robots-Tag:noindex
X-PUBLISHED-TTL:PT1H
BEGIN:VTIMEZONE
TZID:Europe/Berlin
BEGIN:DAYLIGHT
TZOFFSETFROM:+0100
TZOFFSETTO:+0200
TZNAME:CEST
DTSTART:20230326T010000
END:DAYLIGHT
BEGIN:STANDARD
TZOFFSETFROM:+0200
TZOFFSETTO:+0100
TZNAME:CET
DTSTART:20231029T010000
END:STANDARD
BEGIN:DAYLIGHT
TZOFFSETFROM:+0100
TZOFFSETTO:+0200
TZNAME:CEST
DTSTART:20240331T010000
END:DAYLIGHT
BEGIN:STANDARD
TZOFFSETFROM:+0200
TZOFFSETTO:+0100
TZNAME:CET
DTSTART:20241027T010000
END:STANDARD
BEGIN:DAYLIGHT
TZOFFSETFROM:+0100
TZOFFSETTO:+0200
TZNAME:CEST
DTSTART:20250330T010000
END:DAYLIGHT
BEGIN:STANDARD
TZOFFSETFROM:+0200
TZOFFSETTO:+0100
TZNAME:CET
DTSTART:20251026T010000
END:STANDARD
END:VTIMEZONE
BEGIN:VEVENT
DTSTART;TZID=Europe/Berlin:20241019T120000
DTEND;TZID=Europe/Berlin:20241019T200000
DTSTAMP:20260422T121002
CREATED:20241119T134609Z
LAST-MODIFIED:20241119T134609Z
UID:1618-1729339200-1729368000@www.heimatverein-aichach.de
SUMMARY:Oskar Schindler - Lebemann und Lebensretter
DESCRIPTION:Busexkursion nach München zum Sudetendeutschen Museum mit einer Führung durch die Sonderausstellung „Oskar Schindler – Lebemann und Lebensretter“ und Besuch der Daueraustellung. \nAuf dem Heimweg Einkehr zur Brotzeit im Schlossgut Odelzhausen. \nFahrtkosten:\nMitglieder 18\,00 Euro\nGäste 20\,00 Euro \nAnmeldung beim Reisebüro Efinger (Montag – Freitag von 9 – 12 Uhr) Tel. 08251-87600. \nAbfahrt: Bushalle Efinger 12:00 Uhr; Stadtmuseum 12:10 Uhr. \nDie Rückkehr ist gegen 20:00 Uhr vorgesehen.
URL:https://www.heimatverein-aichach.de/termin/oskar-schindler-lebemann-und-lebensretter/
END:VEVENT
END:VCALENDAR