BEGIN:VCALENDAR
VERSION:2.0
PRODID:-//Heimatverein Aichach e.V. - ECPv6.15.20//NONSGML v1.0//EN
CALSCALE:GREGORIAN
METHOD:PUBLISH
X-ORIGINAL-URL:https://www.heimatverein-aichach.de
X-WR-CALDESC:Veranstaltungen für Heimatverein Aichach e.V.
REFRESH-INTERVAL;VALUE=DURATION:PT1H
X-Robots-Tag:noindex
X-PUBLISHED-TTL:PT1H
BEGIN:VTIMEZONE
TZID:Europe/Berlin
BEGIN:DAYLIGHT
TZOFFSETFROM:+0100
TZOFFSETTO:+0200
TZNAME:CEST
DTSTART:20220327T010000
END:DAYLIGHT
BEGIN:STANDARD
TZOFFSETFROM:+0200
TZOFFSETTO:+0100
TZNAME:CET
DTSTART:20221030T010000
END:STANDARD
BEGIN:DAYLIGHT
TZOFFSETFROM:+0100
TZOFFSETTO:+0200
TZNAME:CEST
DTSTART:20230326T010000
END:DAYLIGHT
BEGIN:STANDARD
TZOFFSETFROM:+0200
TZOFFSETTO:+0100
TZNAME:CET
DTSTART:20231029T010000
END:STANDARD
BEGIN:DAYLIGHT
TZOFFSETFROM:+0100
TZOFFSETTO:+0200
TZNAME:CEST
DTSTART:20240331T010000
END:DAYLIGHT
BEGIN:STANDARD
TZOFFSETFROM:+0200
TZOFFSETTO:+0100
TZNAME:CET
DTSTART:20241027T010000
END:STANDARD
END:VTIMEZONE
BEGIN:VEVENT
DTSTART;TZID=Europe/Berlin:20230521T000000
DTEND;TZID=Europe/Berlin:20230903T235959
DTSTAMP:20260423T104940
CREATED:20230613T080529Z
LAST-MODIFIED:20230613T080540Z
UID:1144-1684627200-1693785599@www.heimatverein-aichach.de
SUMMARY:Sonderausstellung im Stadtmuseum Aichach
DESCRIPTION:Willi Weisenhorn: Bilder aus Aichach und Umgebung \n\n\n\n\n\nIm  Jahr 2016 vermachte der Aichacher Maler Willi Weisenhorn einen großen Teil seiner Werke dem Stadtmuseum Aichach. Nach längerer Vorbereitung werden nun in einer Sonderausstellung Ölbilder und Aquarelle gezeigt\, die in den Jahren 1983 bis 1993 entstanden sind.Darauf dargestellt sind Szenen aus der Stadt sowie Landschaften und Orte aus dem Aichacher Land.Das Besondere an dieser Ausstellung sind die vielen Motive\, welche heute in der dargestellten Form nicht mehr erhalten sind. Auf diese Weise taucht der Besucher ein in die damalige Zeit. \n\n\n\nWeitere Informationen zur Ausstellung vermittelt Ihnen der nachstehende Flyer: \n\n\nSonderausstellung-im-Stadtmuseum-Aichach-Willi-Weisenhorn
URL:https://www.heimatverein-aichach.de/termin/sonderausstellung-im-stadtmuseum-aichach/
END:VEVENT
END:VCALENDAR