BEGIN:VCALENDAR
VERSION:2.0
PRODID:-//Heimatverein Aichach e.V. - ECPv6.15.20//NONSGML v1.0//EN
CALSCALE:GREGORIAN
METHOD:PUBLISH
X-ORIGINAL-URL:https://www.heimatverein-aichach.de
X-WR-CALDESC:Veranstaltungen für Heimatverein Aichach e.V.
REFRESH-INTERVAL;VALUE=DURATION:PT1H
X-Robots-Tag:noindex
X-PUBLISHED-TTL:PT1H
BEGIN:VTIMEZONE
TZID:Europe/Berlin
BEGIN:DAYLIGHT
TZOFFSETFROM:+0100
TZOFFSETTO:+0200
TZNAME:CEST
DTSTART:20220327T010000
END:DAYLIGHT
BEGIN:STANDARD
TZOFFSETFROM:+0200
TZOFFSETTO:+0100
TZNAME:CET
DTSTART:20221030T010000
END:STANDARD
BEGIN:DAYLIGHT
TZOFFSETFROM:+0100
TZOFFSETTO:+0200
TZNAME:CEST
DTSTART:20230326T010000
END:DAYLIGHT
BEGIN:STANDARD
TZOFFSETFROM:+0200
TZOFFSETTO:+0100
TZNAME:CET
DTSTART:20231029T010000
END:STANDARD
BEGIN:DAYLIGHT
TZOFFSETFROM:+0100
TZOFFSETTO:+0200
TZNAME:CEST
DTSTART:20240331T010000
END:DAYLIGHT
BEGIN:STANDARD
TZOFFSETFROM:+0200
TZOFFSETTO:+0100
TZNAME:CET
DTSTART:20241027T010000
END:STANDARD
END:VTIMEZONE
BEGIN:VEVENT
DTSTART;TZID=Europe/Berlin:20230521T000000
DTEND;TZID=Europe/Berlin:20230903T235959
DTSTAMP:20260419T190206
CREATED:20230613T080529Z
LAST-MODIFIED:20230613T080540Z
UID:1144-1684627200-1693785599@www.heimatverein-aichach.de
SUMMARY:Sonderausstellung im Stadtmuseum Aichach
DESCRIPTION:Willi Weisenhorn: Bilder aus Aichach und Umgebung \n\n\n\n\n\nIm  Jahr 2016 vermachte der Aichacher Maler Willi Weisenhorn einen großen Teil seiner Werke dem Stadtmuseum Aichach. Nach längerer Vorbereitung werden nun in einer Sonderausstellung Ölbilder und Aquarelle gezeigt\, die in den Jahren 1983 bis 1993 entstanden sind.Darauf dargestellt sind Szenen aus der Stadt sowie Landschaften und Orte aus dem Aichacher Land.Das Besondere an dieser Ausstellung sind die vielen Motive\, welche heute in der dargestellten Form nicht mehr erhalten sind. Auf diese Weise taucht der Besucher ein in die damalige Zeit. \n\n\n\nWeitere Informationen zur Ausstellung vermittelt Ihnen der nachstehende Flyer: \n\n\nSonderausstellung-im-Stadtmuseum-Aichach-Willi-Weisenhorn
URL:https://www.heimatverein-aichach.de/termin/sonderausstellung-im-stadtmuseum-aichach/
END:VEVENT
BEGIN:VEVENT
DTSTART;TZID=Europe/Berlin:20230523T000000
DTEND;TZID=Europe/Berlin:20230708T210000
DTSTAMP:20260419T190206
CREATED:20230516T113628Z
LAST-MODIFIED:20231031T212549Z
UID:950-1684800000-1688850000@www.heimatverein-aichach.de
SUMMARY:Programm Sommer 2023
DESCRIPTION:Sehr geehrte Damen und Herren\,\ndie Geschichte des Aichacher Landes ist spannend und vielfältig. Mit den Angeboten des Vereins wollen wir diese historischen Schätze ans Licht bringen. Es gibt noch viel zu entdecken! Wir freuen uns\, wenn Sie mit dabei sind! \nNachstehend finden Sie den Flyer für das Sommerprogramm 2023. \nHeimatverein Aichach Programm Sommer 2023 \n 
URL:https://www.heimatverein-aichach.de/termin/programm-sommer-2023/
END:VEVENT
BEGIN:VEVENT
DTSTART;VALUE=DATE:20230708
DTEND;VALUE=DATE:20230709
DTSTAMP:20260419T190206
CREATED:20230510T174324Z
LAST-MODIFIED:20230530T105349Z
UID:883-1688774400-1688860799@www.heimatverein-aichach.de
SUMMARY:Bus-Exkursion nach Regensburg: "Barock! Bayern und Böhmen"
DESCRIPTION:Der Heimatverein besucht die Bayerisch-Tschechische Landesausstellung „Barock! Bayern und Böhmen“ in Regensburg und danach gibt es eine Führung durch die archäologische Regensburger Unterwelt am Neupfarrplatz.\nDie Rückkehr ist gegen 20:00 Uhr vorgesehen. \nAbfahrtszeiten:\n07:15 Bushalle Efinger\n07:20 Stadtmuseum Aichach \nFahrtkosten:\nfür Mitglieder 24\,00 Euro\nfür Gäste 28\,00 Euro \nAnmeldung beim Reisebüro Efinger:\nMontag – Freitag von 9-12 Uhr; Tel. 08251/87600 \nHdBG_Museum_Regensburg_ Barock\nFlyer des HDBG „Barock! Bayern und Böhmen“ \n  \n 
URL:https://www.heimatverein-aichach.de/termin/bus-exkursion-nach-regensburg-barock-bayern-und-boehmen/
END:VEVENT
END:VCALENDAR