BEGIN:VCALENDAR
VERSION:2.0
PRODID:-//Heimatverein Aichach e.V. - ECPv6.15.20//NONSGML v1.0//EN
CALSCALE:GREGORIAN
METHOD:PUBLISH
X-WR-CALNAME:Heimatverein Aichach e.V.
X-ORIGINAL-URL:https://www.heimatverein-aichach.de
X-WR-CALDESC:Veranstaltungen für Heimatverein Aichach e.V.
REFRESH-INTERVAL;VALUE=DURATION:PT1H
X-Robots-Tag:noindex
X-PUBLISHED-TTL:PT1H
BEGIN:VTIMEZONE
TZID:Europe/Berlin
BEGIN:DAYLIGHT
TZOFFSETFROM:+0100
TZOFFSETTO:+0200
TZNAME:CEST
DTSTART:20250330T010000
END:DAYLIGHT
BEGIN:STANDARD
TZOFFSETFROM:+0200
TZOFFSETTO:+0100
TZNAME:CET
DTSTART:20251026T010000
END:STANDARD
BEGIN:DAYLIGHT
TZOFFSETFROM:+0100
TZOFFSETTO:+0200
TZNAME:CEST
DTSTART:20260329T010000
END:DAYLIGHT
BEGIN:STANDARD
TZOFFSETFROM:+0200
TZOFFSETTO:+0100
TZNAME:CET
DTSTART:20261025T010000
END:STANDARD
BEGIN:DAYLIGHT
TZOFFSETFROM:+0100
TZOFFSETTO:+0200
TZNAME:CEST
DTSTART:20270328T010000
END:DAYLIGHT
BEGIN:STANDARD
TZOFFSETFROM:+0200
TZOFFSETTO:+0100
TZNAME:CET
DTSTART:20271031T010000
END:STANDARD
END:VTIMEZONE
BEGIN:VEVENT
DTSTART;TZID=Europe/Berlin:20260428T190000
DTEND;TZID=Europe/Berlin:20260428T203000
DTSTAMP:20260423T120947
CREATED:20260219T164903Z
LAST-MODIFIED:20260316T125350Z
UID:2226-1777402800-1777408200@www.heimatverein-aichach.de
SUMMARY:Von Wundern\, Wallfahrten und Heiligenlegenden
DESCRIPTION:Vortrag von Frau Tabea Federlin M.A.: \n„Die Freskenausstattung von St. Leonhard in Inchenhofen.“ \nVortragsort: Stadtmuseum Aichach\, Schulstraße 2 \nTabea Federlin hat in Augsburg ihren B.A. in Kunstpädagogik und Kunstgeschichte abgeschlossen und anschließend in Leipzig ihr Studium mit dem M.A. in Kunstgeschichte gekrönt.\n2025 startete sie ihr Volontariat im Haus der Bayerischen Geschichte in Regensburg. \nIhre Wurzeln hat Frau Federlin in Inchenhofen und referiert sehr kompetent über das Hauptwerk von Ignaz Baldauf in der dortigen Wallfahrtskirche St. Leonhard. \nEinladung zum Vortrag von Tabea Federlin\nAusschnitt: Deckengemälde St. Leonhard (Quelle:www.bistum-augsburg.de)\n 
URL:https://www.heimatverein-aichach.de/termin/von-wundern-wallfahrten-und-heiligenlegenden/
END:VEVENT
BEGIN:VEVENT
DTSTART;TZID=Europe/Berlin:20260613T090000
DTEND;TZID=Europe/Berlin:20260613T130000
DTSTAMP:20260423T120947
CREATED:20260219T173722Z
LAST-MODIFIED:20260219T173722Z
UID:2244-1781341200-1781355600@www.heimatverein-aichach.de
SUMMARY:Führung von Kreisheimatpfleger Dr. Hubert Raab am Vormittag
DESCRIPTION:Wir erhalten Führungen durch 3 ausgewählte Kirchen in Friedberg\nBeginn ist um 9:30 Uhr vor der Kirche Herrgottsruh (Herrgottsruhstr. 29)\, dann geht es zur Kirche St. Afra im Felde (Afrastr. 142) und abschließend besuchen wir noch die Kirche der Pallotiner (Vinzenz-Pallotti-Str. 14). \nAnmeldung für die Führungen bei Familie Lechner Tel. 08251/3862.\nBitte teilen Sie auch mit\, ob Sie eine Mitfahrgelegenheit benötigen. \nBitte beachten: Die Anfahrt erfolgt mit Privat-Pkw. \nKirche Herrgottsruh Friedberg
URL:https://www.heimatverein-aichach.de/termin/fuehrung-von-kreisheimatpfleger-dr-hubert-raab-am-vormittag/
END:VEVENT
END:VCALENDAR